BEGIN:VCALENDAR
PRODID:-//eluceo/ical//2.0/EN
VERSION:2.0
CALSCALE:GREGORIAN
BEGIN:VEVENT
UID:event-125
DTSTAMP:20260424T233636Z
SUMMARY:Artemis Kennisdag 2024
DESCRIPTION:De jaarlijkste Artemis kennisdag brengt alle Nederlandse advise
 urs en specialisten uit de land- en tuinbouwsector bijeen. Het doel is om 
 geïnformeerd te worden en kennis te delen over de nieuwste ontwikkelingen
  op het gebied van weerbare planten en teeltsystemen. Het wordt een dag vo
 l waardevolle inzichten en informatie. We kijken ernaar uit om samen met u
  te leren en te netwerken. Bekijk het dagprogramma\, dat een interessant
  aanbod aan onderwerpen en sprekers beloofd. Ga naar het programma &amp\; 
 sprekers Kosten De deelnemerskosten aan dit evenement bedragen € 120\,- 
 per persoon. Artemis leden ontvangen een ledenkorting en betalen € 70\,-
   (Alle genoemde kosten zijn per persoon en exclusief BTW) Aanmelden voo
 r Artemis leden Om voor de ledenkorting in aanmerking te komen heeft u een
  profiel nodig. Bent u ingelogd\, dan kunt u eenvoudig een ticket boeken
  via de button rechts boven op deze pagina. Tijdens het aanmeldproces hoef
 t u geen betaling te verrichten. De facturatie op bedrijfsniveau wordt na 
 afloop van het evenement uitgevoerd. (De aanmelding voor dit event loopt v
 ia het persoonlijke Artemis profiel) Aanmelden voor niet-leden Is uw bedri
 jf géén lid van Artemis? U bent van harte welkom. Inschrijven als niet l
 id is mogelijk via deze button:  INSCHRIJVEN voor niet-leden Netwerkborre
 l Tijdens de gehele dag\, maar vooral na afloop van het officiële gedeelt
 e is er tijdens een netwerkborrel ruime mogelijkheid om bij te praten met 
 vakgenoten uit de sector. Benieuwd wie er aanwezig is? Deelname annuleren
  Natuurlijk kan het voorkomen\, dat u onverwacht verhinderd bent. Als u be
 sluit om uw inschrijving te annuleren\, verzoeken wij u vriendelijk om dit
  schriftelijk aan ons door te geven via info@artemisnatuurlijk.nl. Als u u
 w annulering tot 48 uur voor aanvang van de bijeenkomst aan ons doorgeeft\
 , brengt Artemis alleen de administratiekosten (€ 7\,50) in rekening. 
 Na deze termijn beschouwen we uw inschrijving als definitief. U kunt altij
 d met het secretariaat overleggen of het mogelijk is om een vervanger te 
 sturen Beeldmateriaal Tijdens de bijeenkomst worden foto's en video's gema
 akt voor terugblikken en toekomstige promotiedoeleinden. Indien u hier be
 zwaar tegen heeft\, kunt u dit vooraf aangeven via info@artemisnatuurlijk.
 nl
DTSTART:20241113T093000Z
DTEND:20241113T161500Z
END:VEVENT
BEGIN:VTIMEZONE
TZID:UTC
BEGIN:STANDARD
DTSTART:20241113T093000
TZNAME:UTC
TZOFFSETTO:+0000
TZOFFSETFROM:+0000
END:STANDARD
END:VTIMEZONE
END:VCALENDAR
