BEGIN:VCALENDAR
PRODID:-//eluceo/ical//2.0/EN
VERSION:2.0
CALSCALE:GREGORIAN
BEGIN:VEVENT
UID:event-239
DTSTAMP:20260424T162029Z
SUMMARY:FRUIT LOGISTICA 2025
DESCRIPTION:FRUIT LOGISTICA 2025 (FRUIT LOGISTICA 2025) is een toonaangeven
 de fysieke vakbeurs voor de wereldwijde AGF-sector (Aardappelen\, Groenten
  en Fruit). Het evenement brengt professionals samen uit de hele toeleveri
 ngsketen\, van teelt tot verkoop\, en biedt een platform voor het presente
 ren van innovaties\, producten en diensten. Een belangrijk onderdeel van d
 e beurs is de 'Startup World'\, waar jonge technologiebedrijven baanbreken
 de producten en ideeën voor de toekomst van de verse fruitindustrie prese
 nteren. Fruit Logistica Dit evenement is bijzonder interessant voor telers
 \, distributeurs\, retailers\, technologische innovators en andere profess
 ionals binnen de AGF-sector die op zoek zijn naar de nieuwste trends en ne
 twerkmogelijkheden. Organisator: Messe Berlin GmbH Datum: 5-7 februari 202
 5 Tijd: 5 en 6 februari: 09:00 - 18:00 uur\; 7 februari: 09:00 - 16:00 uur
  Locatie: Messe Berlin\, Duitsland Voor meer informatie en aanmelding bezo
 ek de website van de organisator. Fruit Logistica Let op: dit evenement w
 ordt niet door Artemis georganiseerd. Artemis is niet verantwoordelijk voo
 r de organisatie ervan en aanvaardt geen aansprakelijkheid voor de verstre
 kte informatie of inschrijvingen. Raadpleeg altijd de website van de organ
 isator voor de meest actuele informatie.
DTSTART:20250205T080000Z
DTEND:20250206T150000Z
LOCATION:Congrescentrum Brabanthallen in 's-Hertogenbosch. 
END:VEVENT
BEGIN:VTIMEZONE
TZID:UTC
BEGIN:STANDARD
DTSTART:20250205T080000
TZNAME:UTC
TZOFFSETTO:+0000
TZOFFSETFROM:+0000
END:STANDARD
END:VTIMEZONE
END:VCALENDAR
