BEGIN:VCALENDAR
PRODID:-//eluceo/ical//2.0/EN
VERSION:2.0
CALSCALE:GREGORIAN
BEGIN:VEVENT
UID:event-241
DTSTAMP:20260425T110743Z
SUMMARY:Grüne Woche | Berlijn
DESCRIPTION:Internationale Grüne Woche (Internationale Grüne Woche) De In
 ternationale Grüne Woche is een toonaangevende fysieke beurs op het gebie
 d van voeding\, landbouw en tuinbouw. Sinds de oprichting in 1926 in Berli
 jn heeft het evenement zich ontwikkeld tot een internationaal platform dat
  exposanten en bezoekers van over de hele wereld aantrekt. De beurs biedt 
 een breed scala aan thema's\, waaronder de bloemenhal\, Duitse regio's\, d
 e ErlebnisBauernhof\, tuin\, huis &amp\; erf\, 'grünerleben'\, de marktha
 l\, dieren en de 'World-Tour'. Grüne Woche Tijdens de beurs vinden er mee
 r dan 300 fora\, seminars\, congressen en vergaderingen plaats\, wat het e
 en belangrijk trefpunt maakt voor besluitvormers en professionals uit de s
 ector. Grüne Woche Doelgroep: Dit evenement is bijzonder interessant voor
  professionals en liefhebbers in de voedings-\, landbouw- en tuinbouwsecto
 r\, evenals voor consumenten die geïnteresseerd zijn in duurzame voedselp
 roductie en innovatieve landbouwpraktijken. Organisator: Messe Berlin GmbH
  Datum: 17 - 26 januari 2025 Tijd: Dagelijks van 10:00 tot 18:00 uur (vrij
 dag 24 januari: 10:00 - 20:00 uur) Locatie: Messe Berlin\, Messedamm 22\, 
 14055 Berlijn\, Duitsland Voor meer informatie en aanmelding bezoek de web
 site van de organisator: Grüne Woche Let op: dit evenement wordt niet doo
 r Artemis georganiseerd. Artemis is niet verantwoordelijk voor de organisa
 tie ervan en aanvaardt geen aansprakelijkheid voor de verstrekte informati
 e of inschrijvingen. Raadpleeg altijd de website van de organisator voor d
 e meest actuele informatie. officiele website.
DTSTART:20250117T090000Z
DTEND:20250126T170000Z
END:VEVENT
BEGIN:VTIMEZONE
TZID:UTC
BEGIN:STANDARD
DTSTART:20250117T090000
TZNAME:UTC
TZOFFSETTO:+0000
TZOFFSETFROM:+0000
END:STANDARD
END:VTIMEZONE
END:VCALENDAR
