BEGIN:VCALENDAR
PRODID:-//eluceo/ical//2.0/EN
VERSION:2.0
CALSCALE:GREGORIAN
BEGIN:VEVENT
UID:event-251
DTSTAMP:20260421T171516Z
SUMMARY:HortiContact 2025 – Vakbeurs voor de glastuinbouwsector
DESCRIPTION:HortiContact is dé vakbeurs voor de Nederlandse glastuinbouw\,
  waar professionals samenkomen om de nieuwste innovaties\, trends en ontwi
 kkelingen in de sector te ontdekken. Dit fysieke evenement biedt een uitge
 breid programma met bijna 300 exposanten en diverse kennissessies. Onder m
 eer het vernieuwde paviljoen met thema’s als arbeid &amp\; scholing\, en
 ergie &amp\; duurzaamheid en de KASLokaal-sessies door Glastuinbouw Nederl
 and zorgen voor waardevolle inzichten. Daarnaast organiseert het World Hor
 ti Center een speciale Innovatie Zone en is er een Starters Area voor jong
 e ondernemers. Een belangrijk onderdeel is de tweede editie van het Nation
 aal Horti Symposium\, waar actuele thema’s zoals klimaatverandering\, en
 ergie-uitdagingen en geopolitieke verschuivingen worden besproken. Nieuw d
 it jaar is de Tuinders Thermometer\, een enquête in samenwerking met Food
 log\, die de stemming en verwachtingen binnen de sector peilt. Bezoekers k
 unnen ook netwerken op de speciale netwerkterrassen of deelnemen aan inter
 actieve activiteiten zoals Ranking the Grower. Dit evenement is interessan
 t voor tuinders\, toeleveranciers\, onderzoekers\, beleidsmakers en iedere
 en die betrokken is bij de glastuinbouwsector. Of je nu op zoek bent naar 
 kennis\, innovatie of zakelijke contacten\, HortiContact biedt een veelzij
 dig platform voor inspiratie en samenwerking. Organisator: HortiContact 
 – Easyfairs Datum: 18\, 19 en 20 februari 2025 Locatie: Evenementenhal G
 orinchem Voor meer informatie en aanmelding bezoek de website van de organ
 isator. Let op: dit evenement wordt niet door Artemis georganiseerd. Artem
 is is niet verantwoordelijk voor de organisatie ervan en aanvaardt geen aa
 nsprakelijkheid voor de verstrekte informatie of inschrijvingen. Raadpleeg
  altijd de website van de organisator voor de meest actuele informatie.
DTSTART:20250218T090000Z
DTEND:20250220T170000Z
END:VEVENT
BEGIN:VTIMEZONE
TZID:UTC
BEGIN:STANDARD
DTSTART:20250218T090000
TZNAME:UTC
TZOFFSETTO:+0000
TZOFFSETFROM:+0000
END:STANDARD
END:VTIMEZONE
END:VCALENDAR
